BEGIN:VCALENDAR
VERSION:2.0
PRODID:-//Special Olympics Northern California - ECPv6.15.20//NONSGML v1.0//EN
CALSCALE:GREGORIAN
METHOD:PUBLISH
X-ORIGINAL-URL:https://sonc.org
X-WR-CALDESC:Events for Special Olympics Northern California
REFRESH-INTERVAL;VALUE=DURATION:PT1H
X-Robots-Tag:noindex
X-PUBLISHED-TTL:PT1H
BEGIN:VTIMEZONE
TZID:America/Los_Angeles
BEGIN:DAYLIGHT
TZOFFSETFROM:-0800
TZOFFSETTO:-0700
TZNAME:PDT
DTSTART:20250309T100000
END:DAYLIGHT
BEGIN:STANDARD
TZOFFSETFROM:-0700
TZOFFSETTO:-0800
TZNAME:PST
DTSTART:20251102T090000
END:STANDARD
BEGIN:DAYLIGHT
TZOFFSETFROM:-0800
TZOFFSETTO:-0700
TZNAME:PDT
DTSTART:20260308T100000
END:DAYLIGHT
BEGIN:STANDARD
TZOFFSETFROM:-0700
TZOFFSETTO:-0800
TZNAME:PST
DTSTART:20261101T090000
END:STANDARD
BEGIN:DAYLIGHT
TZOFFSETFROM:-0800
TZOFFSETTO:-0700
TZNAME:PDT
DTSTART:20270314T100000
END:DAYLIGHT
BEGIN:STANDARD
TZOFFSETFROM:-0700
TZOFFSETTO:-0800
TZNAME:PST
DTSTART:20271107T090000
END:STANDARD
END:VTIMEZONE
BEGIN:VEVENT
DTSTART;TZID=America/Los_Angeles:20260502T000000
DTEND;TZID=America/Los_Angeles:20260502T235959
DTSTAMP:20260425T033209
CREATED:20260327T023056Z
LAST-MODIFIED:20260417T225506Z
UID:10001167-1777680000-1777766399@sonc.org
SUMMARY:2026 Menlo Games Track & Field Invitational
DESCRIPTION:The Menlo Games Track & Field Invitational is for over 100 Special Olympics Northern California athletes competing for San Mateo & San Francisco counties. \n\n\n\nPlease visit the 2026 Menlo Games Track & Field Invitational website for more information. \n\n\n\n\n\n\n\nSports:\n\n\n\nTrack & Field \n\n\n\n\n\n\n\nWho:\n\n\n\nOver 100 Special Olympics Northern California athletes\, coaches and volunteers \n\n\n\n\n\n\n\nWhen:\n\n\n\nSaturday\, May 2nd\, 2026 \n\n\n\n\n\n\n\nWhere:\n\n\n\nCartan Field1000 El Camino Real\,Atherton\, CA 94027 \n\n\n\n\n\n\n\nCompeting Delegations:\n\n\n\nSan Mateo\, San Francisco \n\n\n\n\n\n\n\nOrganizer:\n\n\n\nSteven Del Zompo\, stevend@sonc.org \n\n\n\n\n\n\n\nAdditional Information:\n\n\n\nYou can also check out the Volunteer Calendar for available volunteer roles and shifts. \n\n\n\n\n2026 Menlo Games Track & Field Invitational
URL:https://sonc.org/events-calendar/menlo-games-track-field-invitational/
LOCATION:CA
CATEGORIES:Sports Competitions
ATTACH;FMTTYPE=image/svg+xml:https://sonc.org/wp-content/uploads/2024/01/track-sports-icon_369.svg
ORGANIZER;CN="Steven Del Zompo":MAILTO:stevend@sonc.org
END:VEVENT
BEGIN:VEVENT
DTSTART;TZID=America/Los_Angeles:20260507T173000
DTEND;TZID=America/Los_Angeles:20260507T213000
DTSTAMP:20260425T033209
CREATED:20250203T225736Z
LAST-MODIFIED:20251126T224038Z
UID:10001470-1778175000-1778189400@sonc.org
SUMMARY:2026 Bocce Bash
DESCRIPTION:Join Bay Area sports stars\, business leaders\, and elected officials in the spirit of inclusion at the 2026 Bocce Bash! Play in a fun\, competitive bocce tournament alongside Special Olympics athletes\, local pros and more. \n\n\n\nPlay in a fun\, competitive bocce tournament alongside Special Olympics athletes\, local pro athletes\, and community members at the Bocce Bash. An inclusive\, interactive sport\, bocce allows people of all abilities to compete together. In addition to the action on the court\, the Bocce Bash includes a silent auction where you can bid on high-end getaways and activities\, an Italian buffet\, and wine and beer at a no-host bar. \n\n\n\nTest your skills by registering to play or sign up as a spectator! Support Special Olympics while cheering on competitors and mingling with the crowd. Your support for Bocce Bash is key in funding our year-round programs\, events\, and activities at no cost for people with intellectual disabilities across Northern California.
URL:https://sonc.org/events-calendar/bocce-bash/
LOCATION:Campo Di Bocce of Los Gatos\, 565 University Avenue\, Los Gatos\, CA\, 95032\, United States
CATEGORIES:Fundraisers
ATTACH;FMTTYPE=image/svg+xml:https://sonc.org/wp-content/uploads/2025/02/BB25-Events-Calendar-Page-Color-1200x675-1.svg
ORGANIZER;CN="Stefanie Bruggeman":MAILTO:stefanieb@sonc.org
END:VEVENT
BEGIN:VEVENT
DTSTART;TZID=America/Los_Angeles:20260509T080000
DTEND;TZID=America/Los_Angeles:20260509T160000
DTSTAMP:20260425T033209
CREATED:20260410T013811Z
LAST-MODIFIED:20260411T223612Z
UID:10001267-1778313600-1778342400@sonc.org
SUMMARY:2026 San Rafael Bocce Regional Competition
DESCRIPTION:The San Rafael Bocce Regional Competition is the culmination of the 8-week season for nearly 150 Special Olympics Northern California athletes competing for Sonoma\, Marin\, San Francisco\, San Mateo\, Santa Clara\, Santa Cruz\, and Monterey counties. \n\n\n\nPlease visit the 2026 San Rafael Bocce Regional Competition website for more information. \n\n\n\n\n\n\n\nSports:\n\n\n\nBocce \n\n\n\n\n\n\n\nWho:\n\n\n\nWho: Over 150 Special Olympics Northern California athletes\, coaches and volunteers \n\n\n\n\n\n\n\nWhen:\n\n\n\nSaturday\, May 9nd\, 2026 \n\n\n\n\n\n\n\nWhere:\n\n\n\nMarin Bocce Federation550 B StreetSan Rafael\, CA 94901 \n\n\n\n\n\n\n\nCompeting Delegations:\n\n\n\nSonoma\, Marin\, San Francisco\, San Mateo\, Santa Clara\, Santa Cruz\, Monterey \n\n\n\n\n\n\n\nOrganizer:\n\n\n\nZach Whitaker-Voelz\,Director of Regional Sports\, zachw@sonc.org \n\n\n\n\n\n\n\nAdditional Information:\n\n\n\nYou can also check out the Volunteer Calendar for available volunteer roles and shifts. \n\n\n\n\n2026 San Rafael Bocce Regional Competition
URL:https://sonc.org/events-calendar/san-rafael-bocce-regional-competition/
LOCATION:Marin Bocce Federation\, 550 B Street\, San Rafael\, CA\, 94901\, United States
CATEGORIES:Sports Competitions
ATTACH;FMTTYPE=image/svg+xml:https://sonc.org/wp-content/uploads/2024/01/bocce-sports-icon_369.svg
ORGANIZER;CN="Zach Whitaker-Voelz":MAILTO:zachw@sonc.org
END:VEVENT
BEGIN:VEVENT
DTSTART;TZID=America/Los_Angeles:20260516T000000
DTEND;TZID=America/Los_Angeles:20260516T235959
DTSTAMP:20260425T033209
CREATED:20260414T012350Z
LAST-MODIFIED:20260414T195910Z
UID:10001478-1778889600-1778975999@sonc.org
SUMMARY:2026 San Jose Spring Games
DESCRIPTION:This 2026 San Jose Spring Games Regional Competition is the culmination of the swimming\, tennis\, and track/field seasons for over 400 Special Olympics NorCal athletes competing for Santa Clara\, Santa Cruz\, Monterey\, San Benito San Mateo\, and San Francisco counties. \n\n\n\n\n\n\n\nSports:\n\n\n\nSwimming\, Tennis\, Track & Field \n\n\n\n\n\n\n\nWhen:\n\n\n\nSaturday May 16th 2026 \n\n\n\n\n\n\n\nWhere:\n\n\n\nKathleen MacDonald High School3588 Zanker RdSan Jose\, CA 95134 \n\n\n\n\n\n\n\nCompeting Delegations:\n\n\n\nMarin\, San Francisco\, San Mateo\, Santa Clara\, Monterey\, San Benito \n\n\n\n\n\n\n\nCompetition Director:\n\n\n\nSteven Del Zompostevend@sonc.org \n\n\n\n\n\n\n\nVolunteer Opportunities:\n\n\n\n\nScore Keepers\n\n\n\nTime Keepers\n\n\n\nLunch Volunteers\n\n\n\nIndividual Skills Competition\n\n\n\n\n\n\n\n\nMore Information:\n\n\n\nPlease visit the 2026 San Jose Spring Games website for more information \n\n\n\nYou can also check out the Volunteer Calendar for available volunteer roles and shifts. \n\n\n\n\n2026 San Jose Spring Games
URL:https://sonc.org/events-calendar/san-jose-spring-games/
LOCATION:Kathleen MacDonald High School\, 3588 Zanker Road\, San Jose\, CA\, 95134\, United States
CATEGORIES:Sports Competitions
ATTACH;FMTTYPE=image/jpeg:https://sonc.org/wp-content/uploads/2025/02/Spring-Games-Calendar-Event-thumbnail.jpg
ORGANIZER;CN="Steven Del Zompo":MAILTO:stevend@sonc.org
END:VEVENT
END:VCALENDAR